BEGIN:VCALENDAR
PRODID:-//Session events Calendar//IBA//EN
CALSCALE:GREGORIAN
VERSION:2.0
BEGIN:VEVENT
DTSTAMP:20260424T153930Z
DTSTART:20211026T090000Z
DTEND:20211026T100000Z
SUMMARY:Protection of investments in the MENA Region from local laws to i
 nternational treaty networks\, with a focus on opportunities and challen
 ges when enforcing foreign judgments and arbitral awards
DESCRIPTION:Recording now available\nWatch the recording\n\nIn this sessi
 on\, we will discuss:\n\n• Some key figures about the actual state of fo
 reign investments in the MENA region\n• A comparative overview of major 
 Arab investment laws in the region: developments\, trends and practical 
 examples\n• Comparing investment laws in the MENA region with Europe and
  the USA\n• Case studies in a selection of MENA jurisdictions: Egypt\, M
 orocco\, KSA\, UAE\n• Utilisation of investment vehicles in jurisdiction
 s that offer a treaty network protection – Netherlands\, Luxembourg...\n
 • Are Arab Sovereign Funds still key stakeholders in foreign investments
  in the region?\n• The Interplay between Inter-Arab Investment Treaties 
 and International Investment Agreements involving the MENA region\n• The
  Arab Investment Court: prospects and challenges.\n\n\nAll sessions are 
 being recorded\, unless otherwise stated.\n
LOCATION:Zoom
UID:0f64c4d3-ffa9-4b1b-96db-0410b024341c
END:VEVENT
END:VCALENDAR
