BEGIN:VCALENDAR
PRODID:-//Session events Calendar//IBA//EN
CALSCALE:GREGORIAN
VERSION:2.0
BEGIN:VEVENT
DTSTAMP:20260420T090806Z
DTSTART:20260129T150000Z
DTEND:20260129T170000Z
SUMMARY:Hosted networking dinner
DESCRIPTION:Kindly hosted by the ADGM\n\nTransport will depart from the R
 osewood Hotel between 1820 - 1840.\n\n\n
LOCATION:Saadiyat Beach Club
UID:698cabe1-d03b-42a3-8faf-d37d992eb9dd
END:VEVENT
END:VCALENDAR
