BEGIN:VCALENDAR
PRODID:-//Session events Calendar//IBA//EN
CALSCALE:GREGORIAN
VERSION:2.0
BEGIN:VEVENT
DTSTAMP:20260420T090833Z
DTSTART:20260129T040000Z
DTEND:20260129T050000Z
SUMMARY:Mediation Committee Breakfast
DESCRIPTION:New horizons in mediation\nAI\, litigation funding\, and deve
 lopments in mediation in the MENA region.\n\nPlease note this event is t
 aking place at the ADGM Auditorium ADGM Square\, Al Maryah Island\, Abu 
 Dhabi and NOT the Rosewood Hotel. The venue is a short 5 minute walk fro
 m the Rosewood Hotel.\n
LOCATION:ADGM Auditorium\, ADGM
UID:054c241c-f4bf-4922-9bec-5a70580b84df
END:VEVENT
END:VCALENDAR
