BEGIN:VCALENDAR
PRODID:-//Session events Calendar//IBA//EN
CALSCALE:GREGORIAN
VERSION:2.0
BEGIN:VEVENT
DTSTAMP:20260425T135645Z
DTSTART:20260418T154500Z
DTEND:20260418T170000Z
SUMMARY:Conference reception
DESCRIPTION:Campus cafeteria\, second floor.\n\nAll registered delegates 
 are welcome to attend this reception.\n\n\n\n\n
LOCATION:
UID:20c424a5-e1c7-482b-9e34-ccf811b4b145
END:VEVENT
END:VCALENDAR
