BEGIN:VCALENDAR
PRODID:-//Session events Calendar//IBA//EN
CALSCALE:GREGORIAN
VERSION:2.0
BEGIN:VEVENT
DTSTAMP:20260420T090759Z
DTSTART:20260128T150000Z
DTEND:20260128T180000Z
SUMMARY:Welcome Reception
DESCRIPTION:
LOCATION:Glo\, Rosewood Hotel Abu Dhabi
UID:0d7e443f-22e8-4118-9540-127062138d0c
END:VEVENT
END:VCALENDAR
