BEGIN:VCALENDAR
PRODID:-//Session events Calendar//IBA//EN
CALSCALE:GREGORIAN
VERSION:2.0
BEGIN:VEVENT
DTSTAMP:20260420T133042Z
DTSTART:20251103T123000Z
DTEND:20251103T140000Z
SUMMARY:GMB - by invitation only
DESCRIPTION:
LOCATION:
UID:443eaeff-06d5-4593-a12a-8324b2bb646c
END:VEVENT
END:VCALENDAR
