BEGIN:VCALENDAR
PRODID:-//Session events Calendar//IBA//EN
CALSCALE:GREGORIAN
VERSION:2.0
BEGIN:VEVENT
DTSTAMP:20260420T145829Z
DTSTART:20251103T000000Z
DTEND:20251103T030000Z
SUMMARY:Welcome Party
DESCRIPTION:Join us for an unforgettable Canadian celebration!\n\nThe IBA
  invites you to an extraordinary Welcome Party at the MTCC North\, Halls
  A\, B\, and C—a night that will immerse you in the heart and soul of Ca
 nada!\n\nSavour authentic flavours from coast to coast\, with delicious 
 dishes representing each province and territory. Indulge in the gold of 
 Canada—maple syrup—in creative and unexpected ways.\n\nPrepare to be cap
 tivated by live entertainment that brings Canada’s diverse cultures to l
 ife! Enjoy the energy of country dancers\, the rhythm of Celtic fiddlers
 \, and powerful indigenous performances honouring the heritage of this l
 and.\n\nThis is more than just a party—it’s a true Canadian experience y
 ou won’t want to miss! We look forward to celebrating with you!\n\nPleas
 e note attendance is only possible for those aged 21 and above.\n
LOCATION:Exhibit Halls B + C\, Metro Toronto Convention Centre
UID:28ba54d3-e16a-4538-9f5e-8676d1be1e29
END:VEVENT
END:VCALENDAR
