BEGIN:VCALENDAR
PRODID:-//Session events Calendar//IBA//EN
CALSCALE:GREGORIAN
VERSION:2.0
BEGIN:VEVENT
DTSTAMP:20260420T103624Z
DTSTART:20260205T163000Z
DTEND:20260205T183000Z
SUMMARY:Conference reception
DESCRIPTION:
LOCATION:
UID:fc655f4e-c15b-47e5-9e77-d4c2749bd1c9
END:VEVENT
END:VCALENDAR
