BEGIN:VCALENDAR
PRODID:-//Session events Calendar//IBA//EN
CALSCALE:GREGORIAN
VERSION:2.0
BEGIN:VEVENT
DTSTAMP:20260420T120629Z
DTSTART:20260126T191500Z
DTEND:20260126T220000Z
SUMMARY:Conference dinner
DESCRIPTION:
LOCATION:60 Great Queen Street
UID:4b5e3d4a-52ad-4102-85aa-016aa136eac5
END:VEVENT
END:VCALENDAR
