BEGIN:VCALENDAR
PRODID:-//Session events Calendar//IBA//EN
CALSCALE:GREGORIAN
VERSION:2.0
BEGIN:VEVENT
DTSTAMP:20260420T151536Z
DTSTART:20260409T093000Z
DTEND:20260409T110000Z
SUMMARY:Conference reception
DESCRIPTION:
LOCATION:Peter Restaurant
UID:b48821b2-6f27-467c-b548-7714c88f7a0c
END:VEVENT
END:VCALENDAR
