BEGIN:VCALENDAR
PRODID:-//Session events Calendar//IBA//EN
CALSCALE:GREGORIAN
VERSION:2.0
BEGIN:VEVENT
DTSTAMP:20260420T090800Z
DTSTART:20231102T193000Z
DTEND:20231102T223000Z
SUMMARY:Arbitration officers dinner
DESCRIPTION:
LOCATION:
UID:0894e92e-05e7-4e1b-9aa7-3d7b3bf6bfb7
END:VEVENT
END:VCALENDAR
