BEGIN:VCALENDAR
PRODID:-//Session events Calendar//IBA//EN
CALSCALE:GREGORIAN
VERSION:2.0
BEGIN:VEVENT
DTSTAMP:20260420T125031Z
DTSTART:20231031T111500Z
DTEND:20231031T123000Z
SUMMARY:Global class actions - coming soon to a court near you
DESCRIPTION:Jurisdiction over non-resident group members is one of the em
 erging hot spots in class actions. Hear judges from around the world in 
 a mock trial in a Paris courtroom decide who is in and who is out and th
 e limits on the reach of extraterritoriality.\n\n\n\nThe IBA Litigation 
 Committee have organised three sessions and one joint session with the I
 BA Class Actions Committee to be held at the International Chamber of th
 e Paris Commercial Court on Tuesday 31 October.\n\nESG litigation – tren
 ds and strategies in both civil and common law court\n10:30 AM - 11:45 A
 M\n\nGlobal class actions - coming soon to a court near you\n12:15PM – 1
 :30PM\n\nComparative approach of international commercial chambers\n2:30
  PM - 3:45 PM\n\nThe role of the profession\, ethics\, representation an
 d social responsibility\n4:15 PM - 5:30 PM\n\nSpaces are limited and are
  assigned on a first come first served basis. Registered conference dele
 gates can register register here or at the Speaker Register desk. Please
  note all attendees will require their passport or official ID card for 
 the appropriate security checks at the courts. Further information on tr
 ansport will be provided nearer the time\, however\, please note transpo
 rt will only be provided to the Court for arrival at 10:30am for the fir
 st session and at 5:30pm for departure back to the conference centre.\n
LOCATION:OFFSITE - International Chamber of the Paris Commercial Court - 
 1 quai de la Course 75004 Paris
UID:7c383428-6249-4021-a6b1-e0e585d92b27
END:VEVENT
END:VCALENDAR
