BEGIN:VCALENDAR
PRODID:-//Session events Calendar//IBA//EN
CALSCALE:GREGORIAN
VERSION:2.0
BEGIN:VEVENT
DTSTAMP:20260420T085236Z
DTSTART:20231031T133000Z
DTEND:20231031T144500Z
SUMMARY:Comparative approach of international commercial chambers
DESCRIPTION:While global trade faces an increasing number of crises\, its
  actors search reliable and efficient institutions to resolve their disp
 utes. What criteria should guide them to choose a forum? This session wi
 ll compare the solutions offered by several major legal forums specialis
 ing in the resolution of cross-border disputes. It will take place in th
 e International Chamber of the Paris Commercial Court.\n\nThe IBA Litiga
 tion Committee have organised three sessions and one joint session with 
 the IBA Class Actions Committee to be held at the International Chamber 
 of the Paris Commercial Court on Tuesday 31 October.\n\nESG litigation –
  trends and strategies in both civil and common law court\n10:30 AM - 11
 :45 AM\n\nGlobal class actions - coming soon to a court near you\n12:15P
 M – 1:30PM\n\nComparative approach of international commercial chambers\
 n2:30 PM - 3:45 PM\n\nThe role of the profession\, ethics\, representati
 on and social responsibility\n4:15 PM - 5:30 PM\n\nSpaces are limited an
 d are assigned on a first come first served basis. Registered conference
  delegates can register register here or at the Speaker Register desk. P
 lease note all attendees will require their passport or official ID card
  for the appropriate security checks at the courts. Further information 
 on transport will be provided nearer the time\, however\, please note tr
 ansport will only be provided to the Court for arrival at 10:30am for th
 e first session and at 5:30pm for departure back to the conference centr
 e.\n
LOCATION:OFFSITE - International Chamber of the Paris Commercial Court\, 
 1 quai de la Course 75004 Paris
UID:6c527fab-753b-4f51-9948-388b20aced78
END:VEVENT
END:VCALENDAR
