BEGIN:VCALENDAR
PRODID:-//Session events Calendar//IBA//EN
CALSCALE:GREGORIAN
VERSION:2.0
BEGIN:VEVENT
DTSTAMP:20260420T090812Z
DTSTART:20231031T080000Z
DTEND:20231031T113000Z
SUMMARY:Aviation Law Committee offsite session
DESCRIPTION:OFFSITE: Aeroport de Paris – Le Bourget\, 3 esplanade de l’Ai
 r de l’Espace\, BP 173 – 93352 Le Bourget CEDEX\n\nJoin us for a tour of
  the local aviation facility of the Air and Space Museum at the Le Bourg
 et Airport. Spaces are limited and are assigned on a first come\, first 
 served basis. Registration is only possible onsite\, and registered conf
 erence delegates can sign up at the Speakers Desk by the IBA Registratio
 n Desk.\n\nFor those who are registered\, it is advised to be on the bus
  five to ten minutes before the departure time.\n
LOCATION:OFFSITE
UID:d705ab8a-2ae5-455c-95e6-3a72f3c5e5f2
END:VEVENT
END:VCALENDAR
