BEGIN:VCALENDAR
PRODID:-//Session events Calendar//IBA//EN
CALSCALE:GREGORIAN
VERSION:2.0
BEGIN:VEVENT
DTSTAMP:20260420T103455Z
DTSTART:20231031T190000Z
DTEND:20231031T220000Z
SUMMARY:Art\, Cultural Institutions and Heritage Law Committee dinner
DESCRIPTION:€188
LOCATION:Drouant
UID:104676f7-06ec-419e-899f-3e24d5150510
END:VEVENT
END:VCALENDAR
