BEGIN:VCALENDAR
PRODID:-//Session events Calendar//IBA//EN
CALSCALE:GREGORIAN
VERSION:2.0
BEGIN:VEVENT
DTSTAMP:20260420T103554Z
DTSTART:20231031T120000Z
DTEND:20231031T140000Z
SUMMARY:Agriculture and Food Section dinner
DESCRIPTION:
LOCATION:Le Bistro Flaubert
UID:cc8f9070-80ef-495b-bb78-ccb01b0b6782
END:VEVENT
END:VCALENDAR
