BEGIN:VCALENDAR
PRODID:-//Session events Calendar//IBA//EN
CALSCALE:GREGORIAN
VERSION:2.0
BEGIN:VEVENT
DTSTAMP:20260420T090759Z
DTSTART:20231030T193000Z
DTEND:20231030T220000Z
SUMMARY:Committees on Class Actions\, Environment\, Health & Safety Law\,
  Mining Law and Water Law joint dinner
DESCRIPTION:€80
LOCATION:Le Procope
UID:a8b09661-3f0b-438d-a71d-14c04c31ac97
END:VEVENT
END:VCALENDAR
