BEGIN:VCALENDAR
PRODID:-//Session events Calendar//IBA//EN
CALSCALE:GREGORIAN
VERSION:2.0
BEGIN:VEVENT
DTSTAMP:20260420T085445Z
DTSTART:20231030T183000Z
DTEND:20231030T213000Z
SUMMARY:Insurance Committee dinner
DESCRIPTION:€99
LOCATION:La Lorraine
UID:08fea232-4aea-4a2c-852a-f6b627d1b250
END:VEVENT
END:VCALENDAR
