BEGIN:VCALENDAR
PRODID:-//Session events Calendar//IBA//EN
CALSCALE:GREGORIAN
VERSION:2.0
BEGIN:VEVENT
DTSTAMP:20260420T085334Z
DTSTART:20231030T183000Z
DTEND:20231030T213000Z
SUMMARY:LGBTQI+ Law Committee dinner
DESCRIPTION:€75
LOCATION:Benoit - Le Salon
UID:bdc72530-76f0-434c-9812-1afee512949d
END:VEVENT
END:VCALENDAR
