BEGIN:VCALENDAR
PRODID:-//Session events Calendar//IBA//EN
CALSCALE:GREGORIAN
VERSION:2.0
BEGIN:VEVENT
DTSTAMP:20260420T103625Z
DTSTART:20231030T180000Z
DTEND:20231030T213000Z
SUMMARY:International Franchising Committee dinner
DESCRIPTION:€149
LOCATION:99 Haussmann
UID:061bd350-5a5c-4276-b26a-fbfe18bd1b27
END:VEVENT
END:VCALENDAR
