BEGIN:VCALENDAR
PRODID:-//Session events Calendar//IBA//EN
CALSCALE:GREGORIAN
VERSION:2.0
BEGIN:VEVENT
DTSTAMP:20260420T103546Z
DTSTART:20231030T113000Z
DTEND:20231030T133000Z
SUMMARY:Antitrust Section lunch
DESCRIPTION:€180
LOCATION:Halle aux Grains
UID:9196eb10-b727-47b6-9436-2d5590831fb8
END:VEVENT
END:VCALENDAR
