BEGIN:VCALENDAR
PRODID:-//Session events Calendar//IBA//EN
CALSCALE:GREGORIAN
VERSION:2.0
BEGIN:VEVENT
DTSTAMP:20260420T085244Z
DTSTART:20231031T163000Z
DTEND:20231031T173000Z
SUMMARY:China Working Group drinks reception
DESCRIPTION:
LOCATION:Palais de Congres de Paris
UID:a39783eb-aabf-4b9e-9bb7-bc1823d00036
END:VEVENT
END:VCALENDAR
