BEGIN:VCALENDAR
PRODID:-//Session events Calendar//IBA//EN
CALSCALE:GREGORIAN
VERSION:2.0
BEGIN:VEVENT
DTSTAMP:20260424T170403Z
DTSTART:20230921T223000Z
DTEND:20230922T010000Z
SUMMARY:Conference dinner
DESCRIPTION:
LOCATION:
UID:1c2d9af5-8d5c-4c4d-94ca-2e545dacf3ac
END:VEVENT
END:VCALENDAR
