BEGIN:VCALENDAR
PRODID:-//Session events Calendar//IBA//EN
CALSCALE:GREGORIAN
VERSION:2.0
BEGIN:VEVENT
DTSTAMP:20260420T103547Z
DTSTART:20231031T114500Z
DTEND:20231031T131500Z
SUMMARY:Latin American Regional Forum lunch
DESCRIPTION:Palais des Congrès de Paris\nPrice: €120
LOCATION:Paris\, Palais de Congres de Paris
UID:4c500376-e8d0-4dd3-9bc7-1287b208bf38
END:VEVENT
END:VCALENDAR
