BEGIN:VCALENDAR
PRODID:-//Session events Calendar//IBA//EN
CALSCALE:GREGORIAN
VERSION:2.0
BEGIN:VEVENT
DTSTAMP:20260420T090757Z
DTSTART:20231030T114500Z
DTEND:20231030T131500Z
SUMMARY:European Regional Forum lunch
DESCRIPTION:Palais des Congrès de Paris\nPrice: €120
LOCATION:Ternes\, Palais de Congres de Paris
UID:0d729c2f-f5ba-4769-bdf1-e00f7bd09a41
END:VEVENT
END:VCALENDAR
