BEGIN:VCALENDAR
PRODID:-//Session events Calendar//IBA//EN
CALSCALE:GREGORIAN
VERSION:2.0
BEGIN:VEVENT
DTSTAMP:20260422T015951Z
DTSTART:20221104T000000Z
DTEND:20221104T030000Z
SUMMARY:Arbitration officers dinner - guest pass
DESCRIPTION:
LOCATION:
UID:a3a788a2-7d12-415d-99df-12cb4cc9d37b
END:VEVENT
END:VCALENDAR
