BEGIN:VCALENDAR
PRODID:-//Session events Calendar//IBA//EN
CALSCALE:GREGORIAN
VERSION:2.0
BEGIN:VEVENT
DTSTAMP:20260420T103554Z
DTSTART:20230420T110000Z
DTEND:20230420T114500Z
SUMMARY:Real estate running tour
DESCRIPTION:All conference registered delegatesare invited to attend. Mee
 t in the main hotel lobby.\n\nJoin the officers of the Real Estate Secti
 on and your colleagues for a light jog or a refreshing walk.\n
LOCATION:
UID:4a8b50af-9223-4bcc-b9ef-50ced5009f0c
END:VEVENT
END:VCALENDAR
