BEGIN:VCALENDAR
PRODID:-//Session events Calendar//IBA//EN
CALSCALE:GREGORIAN
VERSION:2.0
BEGIN:VEVENT
DTSTAMP:20260420T120742Z
DTSTART:20230420T193000Z
DTEND:20230420T194500Z
SUMMARY:coffee break
DESCRIPTION:
LOCATION:
UID:4bf4ad0c-df6a-4b99-a8fa-91a4942ec140
END:VEVENT
END:VCALENDAR
