BEGIN:VCALENDAR
PRODID:-//Session events Calendar//IBA//EN
CALSCALE:GREGORIAN
VERSION:2.0
BEGIN:VEVENT
DTSTAMP:20260420T120742Z
DTSTART:20230420T163000Z
DTEND:20230420T173000Z
SUMMARY:Lunch
DESCRIPTION:
LOCATION:
UID:4ed4ba41-68b5-47f2-b434-49c93fd16f2a
END:VEVENT
END:VCALENDAR
