BEGIN:VCALENDAR
PRODID:-//Session events Calendar//IBA//EN
CALSCALE:GREGORIAN
VERSION:2.0
BEGIN:VEVENT
DTSTAMP:20260420T102403Z
DTSTART:20230420T230000Z
DTEND:20230421T020000Z
SUMMARY:Conference dinner
DESCRIPTION:
LOCATION:Vista Santiago
UID:f6241655-4ad2-43d7-84d5-d6451eb1728c
END:VEVENT
END:VCALENDAR
