BEGIN:VCALENDAR
PRODID:-//Session events Calendar//IBA//EN
CALSCALE:GREGORIAN
VERSION:2.0
BEGIN:VEVENT
DTSTAMP:20260422T020026Z
DTSTART:20221102T180000Z
DTEND:20221102T214500Z
SUMMARY:Law firm visits - group Brickell 2
DESCRIPTION:Law firms ofthis group- Fowler White &amp\; Burnett\, Holland
  &amp\; Knight.\n\nDelegates have the opportunity to visit several law f
 irms to discuss strategy\, practice areas and practice management\, orga
 nisational issues\, marketing and office systems.\n\nSpaces are limited 
 and are assigned on a first come\, first served basis. Registered confer
 ence delegates can sign up at the Speakers‘ Desk by the IBA Registration
  Desk. For those who are registered\, it is advised to be on the bus fiv
 e to ten minutes before the departure time.\n
LOCATION:OFFSITE
UID:657f85e4-59e1-4cfe-8f3c-7b083641c261
END:VEVENT
END:VCALENDAR
