BEGIN:VCALENDAR
PRODID:-//Session events Calendar//IBA//EN
CALSCALE:GREGORIAN
VERSION:2.0
BEGIN:VEVENT
DTSTAMP:20260422T020005Z
DTSTART:20221102T180000Z
DTEND:20221102T214500Z
SUMMARY:Law firm visits - group Brickell 1
DESCRIPTION:Law firms ofthis group- Akerman\, Jones Day.\n\nDelegates hav
 e the opportunity to visit several law firms to discuss strategy\, pract
 ice areas and practice management\, organisational issues\, marketing an
 d office systems.\n\nSpaces are limited and are assigned on a first come
 \, first served basis. Registered conference delegates can sign up at th
 e Speakers‘ Desk by the IBA Registration Desk. For those who are registe
 red\, it is advised to be on the bus five to ten minutes before the depa
 rture time.\n
LOCATION:OFFSITE
UID:3052f7dd-89b2-4982-96a6-7b0e36470293
END:VEVENT
END:VCALENDAR
