BEGIN:VCALENDAR
PRODID:-//Session events Calendar//IBA//EN
CALSCALE:GREGORIAN
VERSION:2.0
BEGIN:VEVENT
DTSTAMP:20260422T020002Z
DTSTART:20221102T180000Z
DTEND:20221102T214500Z
SUMMARY:Law firm visits - group downtown 2
DESCRIPTION:Law firms ofthis group- Greenberg Traurig &amp\;Boise Schille
 r Flexner.\n\nDelegates have the opportunity to visit several law firms 
 to discuss strategy\, practice areas and practice management\, organisat
 ional issues\, marketing and office systems.\n\nSpaces are limited and a
 re assigned on a first come\, first served basis. Registered conference 
 delegates can sign up at the Speakers‘ Desk by the IBA Registration Desk
 . For those who are registered\, it is advised to be on the bus five to 
 ten minutes before the departure time.\n
LOCATION:OFFSITE
UID:b00054fd-460b-483f-842d-210fbabaf623
END:VEVENT
END:VCALENDAR
