BEGIN:VCALENDAR
PRODID:-//Session events Calendar//IBA//EN
CALSCALE:GREGORIAN
VERSION:2.0
BEGIN:VEVENT
DTSTAMP:20260422T020002Z
DTSTART:20221101T233000Z
DTEND:20221102T023000Z
SUMMARY:Business Human Rights Committee dinner
DESCRIPTION:Price: $258\n\nBook social event\n
LOCATION:Baia Beach Club - South Terrace
UID:ef590c05-18a4-4aff-8cd1-89e761577bfe
END:VEVENT
END:VCALENDAR
