BEGIN:VCALENDAR
PRODID:-//Session events Calendar//IBA//EN
CALSCALE:GREGORIAN
VERSION:2.0
BEGIN:VEVENT
DTSTAMP:20260421T011100Z
DTSTART:20230124T030000Z
DTEND:20230124T060000Z
SUMMARY:Conference Dinner
DESCRIPTION:
LOCATION:Michael's
UID:e14fd4e4-8447-4a94-9951-6bced08fa922
END:VEVENT
END:VCALENDAR
