BEGIN:VCALENDAR
PRODID:-//Session events Calendar//IBA//EN
CALSCALE:GREGORIAN
VERSION:2.0
BEGIN:VEVENT
DTSTAMP:20260421T011100Z
DTSTART:20230123T030100Z
DTEND:20230123T040000Z
SUMMARY:Welcome Reception
DESCRIPTION:
LOCATION:Hilton Santa Monica
UID:304d2d97-ae35-4671-a68b-785002d66d32
END:VEVENT
END:VCALENDAR
