BEGIN:VCALENDAR
PRODID:-//Session events Calendar//IBA//EN
CALSCALE:GREGORIAN
VERSION:2.0
BEGIN:VEVENT
DTSTAMP:20260422T020022Z
DTSTART:20221104T020000Z
DTEND:20221104T060000Z
SUMMARY:Young Lawyers' Committee night out
DESCRIPTION:Price: $90\n\nBook social event\n\nJoin the IBA Young Lawyers
 'Committee at their traditional night out.\n\nYour ticket price includes
  entry and selected beers\, wines and house cocktails all night.\n
LOCATION:Highbar
UID:6b6b24fa-624a-4189-8079-2740b9bf344f
END:VEVENT
END:VCALENDAR
