BEGIN:VCALENDAR
PRODID:-//Session events Calendar//IBA//EN
CALSCALE:GREGORIAN
VERSION:2.0
BEGIN:VEVENT
DTSTAMP:20260422T020002Z
DTSTART:20221103T133000Z
DTEND:20221103T160000Z
SUMMARY:Tour of Wilkie D. Ferguson Jr. United States Courthouse
DESCRIPTION:The IBA Judges’ Forum has organised a tour of theWilkie D. Fe
 rguson\, Jr. United States Courthouse\, taking place during the IBA Annu
 al Conference.\n\nSpaces are limited and are assigned on a first come\, 
 first served basis. Registration is only possible onsite\, and registere
 d conference delegates can sign up at the Speakers‘ Desk by the IBA Regi
 stration Desk.\n
LOCATION:
UID:57f0d0ef-cbce-465e-9818-d7fb0d77014b
END:VEVENT
END:VCALENDAR
