BEGIN:VCALENDAR
PRODID:-//Session events Calendar//IBA//EN
CALSCALE:GREGORIAN
VERSION:2.0
BEGIN:VEVENT
DTSTAMP:20260422T020022Z
DTSTART:20221103T233000Z
DTEND:20221104T023000Z
SUMMARY:Media Law Committee dinner
DESCRIPTION:Price: $213\n\n
LOCATION:Astra
UID:5d043eb1-4298-4098-8f33-27295fc9de12
END:VEVENT
END:VCALENDAR
