BEGIN:VCALENDAR
PRODID:-//Session events Calendar//IBA//EN
CALSCALE:GREGORIAN
VERSION:2.0
BEGIN:VEVENT
DTSTAMP:20260422T020027Z
DTSTART:20221101T230000Z
DTEND:20221102T020000Z
SUMMARY:Section on Energy\, Environment\, Natural Resources and Infrastru
 cture Law dinner
DESCRIPTION:Price: $200\n\nBook social event\n
LOCATION:Truluck's
UID:7e286d90-a53a-4a52-a4a2-550758f56744
END:VEVENT
END:VCALENDAR
