BEGIN:VCALENDAR
PRODID:-//Session events Calendar//IBA//EN
CALSCALE:GREGORIAN
VERSION:2.0
BEGIN:VEVENT
DTSTAMP:20260422T015951Z
DTSTART:20221101T233000Z
DTEND:20221102T023000Z
SUMMARY:Real Estate Section dinner
DESCRIPTION:Price: $260\n\nBook social event\n
LOCATION:Scarpetta - Ocean View Terrace
UID:66a982af-bb55-46bd-bf33-9960864d683d
END:VEVENT
END:VCALENDAR
