BEGIN:VCALENDAR
PRODID:-//Session events Calendar//IBA//EN
CALSCALE:GREGORIAN
VERSION:2.0
BEGIN:VEVENT
DTSTAMP:20260422T020022Z
DTSTART:20221101T000000Z
DTEND:20221101T020000Z
SUMMARY:Committees on Class Actions\, Environment Health & Safety Law and
  Water Law joint dinner
DESCRIPTION:Price: $118\n\nBook social event\n
LOCATION:Havana 1957 on Ocean Drive
UID:10f4120e-458f-4154-bc75-3926d601ad44
END:VEVENT
END:VCALENDAR
