BEGIN:VCALENDAR
PRODID:-//Session events Calendar//IBA//EN
CALSCALE:GREGORIAN
VERSION:2.0
BEGIN:VEVENT
DTSTAMP:20260422T020155Z
DTSTART:20221101T233000Z
DTEND:20221102T023000Z
SUMMARY:Asset Management and Investment Funds Committee dinner
DESCRIPTION:Price: $181\n\n\n
LOCATION:Smith & Wollensky
UID:46bcffe7-8c7d-47b3-9755-6aab54e7721f
END:VEVENT
END:VCALENDAR
