BEGIN:VCALENDAR
PRODID:-//Session events Calendar//IBA//EN
CALSCALE:GREGORIAN
VERSION:2.0
BEGIN:VEVENT
DTSTAMP:20260422T020039Z
DTSTART:20221104T124500Z
DTEND:20221104T193000Z
SUMMARY:International Constructions Project Committee excursion and lunch
 
DESCRIPTION:Price: $115\n\nCoaches will depart from the main entrance of 
 Miami Beach Convention Center\, Convention Center Drive at 0845am.\n\nBo
 ok social event\n
LOCATION:Everglades Safari Park and lunch at Cafe Americano - Collins Ave
 
UID:726478ef-e91b-4ee0-a15c-3c479770081c
END:VEVENT
END:VCALENDAR
