BEGIN:VCALENDAR
PRODID:-//Session events Calendar//IBA//EN
CALSCALE:GREGORIAN
VERSION:2.0
BEGIN:VEVENT
DTSTAMP:20260422T020155Z
DTSTART:20221103T230000Z
DTEND:20221104T020000Z
SUMMARY:International Trade and Customs Law Committee dinner
DESCRIPTION:
LOCATION:The Green House at Baia Beach Club
UID:9f372a67-c76d-40f5-8eb8-9d3c0449d156
END:VEVENT
END:VCALENDAR
