BEGIN:VCALENDAR
PRODID:-//Session events Calendar//IBA//EN
CALSCALE:GREGORIAN
VERSION:2.0
BEGIN:VEVENT
DTSTAMP:20260422T020040Z
DTSTART:20221103T230000Z
DTEND:20221104T020000Z
SUMMARY:Committees on International Commerce and Distribution and Product
  Law and Advertising joint dinner
DESCRIPTION:Price: $180\n\nBook social event\n
LOCATION:Smith & Wollensky
UID:979afb0c-1050-47dd-94a7-339e1e355793
END:VEVENT
END:VCALENDAR
