BEGIN:VCALENDAR
PRODID:-//Session events Calendar//IBA//EN
CALSCALE:GREGORIAN
VERSION:2.0
BEGIN:VEVENT
DTSTAMP:20260422T033639Z
DTSTART:20221103T230000Z
DTEND:20221104T020000Z
SUMMARY:Immigration and Nationality Law Committee dinner
DESCRIPTION:Price: $180\n\nBook social event\n
LOCATION:Smith & Wollensky
UID:bc319689-82c3-490a-a8b9-1acee2de0c1d
END:VEVENT
END:VCALENDAR
