BEGIN:VCALENDAR
PRODID:-//Session events Calendar//IBA//EN
CALSCALE:GREGORIAN
VERSION:2.0
BEGIN:VEVENT
DTSTAMP:20260422T020155Z
DTSTART:20221103T230000Z
DTEND:20221104T020000Z
SUMMARY:Bar Issues Commission dinner
DESCRIPTION:Price: $127\n\nBook social event\n
LOCATION:Havana 1957 - Ocean Drive
UID:f7cc0e29-f948-4606-845c-50a2f89126ae
END:VEVENT
END:VCALENDAR
