BEGIN:VCALENDAR
PRODID:-//Session events Calendar//IBA//EN
CALSCALE:GREGORIAN
VERSION:2.0
BEGIN:VEVENT
DTSTAMP:20260422T020022Z
DTSTART:20221103T163000Z
DTEND:20221103T193000Z
SUMMARY:Litigation Committee lunch cruise
DESCRIPTION:Price: $175\n\nDirections to the vessel upon entering Bayside
  Marketplace:\nMake your first right and follow the road until you reach
  the water. If being dropped off \, please ask the driver to drop off ne
 ar the Hard Rock Cafe in the back of Bayside Marketplace. Simply walk ar
 ound the Hard Rock Cafe\, follow all the way to the end of the pier and 
 make a left to find the vessel.\n\nPlease note that the vessel will leav
 e the dock at 1300 hrs sharp and return by 1530 hrs.\n\nBook social even
 t\n
LOCATION:Biscayne Lady Yacht
UID:3f3d6254-1f3b-4e09-8bd6-b495d278584c
END:VEVENT
END:VCALENDAR
