BEGIN:VCALENDAR
PRODID:-//Session events Calendar//IBA//EN
CALSCALE:GREGORIAN
VERSION:2.0
BEGIN:VEVENT
DTSTAMP:20260422T015953Z
DTSTART:20221102T163000Z
DTEND:20221102T183000Z
SUMMARY:Committees on Banking Law and Securities Law joint lunch
DESCRIPTION:Price: $157\n
LOCATION:Smith & Wollensky
UID:0b2a1fcf-cce9-4cfd-962a-ce1815b3c455
END:VEVENT
END:VCALENDAR
